BEGIN:VCALENDAR
VERSION:2.0
PRODID:http://www.katholisch-trier.de
BEGIN:VEVENT
UID:88af7245-3fa1-11f1-a3e9-0242ac11002b-1779710400000-de
DTSTAMP:20260424T055044Z
DTSTART:20260525T120000Z
DTEND:20260525T160000Z
SUMMARY;LANGUAGE=de:B e g e g n u n g s f e s t  „Heiliger Geist im Alltag“ 
DESCRIPTION;LANGUAGE=de:Schwestern vom Heiligen Geist\nHelenenstr. 21 (Gartenfeld)\, Trier\nAb 14.00 Uhr:\n❖ Begegnung\, Information und Gespräch\n❖ Kaffee und Kuchen\n❖ Kreativ-Angebote für Kinder\n❖ 17.30 Uhr – das besondere Abendlob\nWir freuen uns auf Ihr Kommen!\nDie Schwestern vom Heiligen Geist
LOCATION;LANGUAGE=de:Helenenstraße 21\, Gartenfeld\, 54295 Trier
IMAGE;VALUE=URI;DISPLAY=BADGE;FMTTYPE=image/jpeg:http://www.katholisch-trier.de/export/sites/pastr/trier/.galleries/bilder/Einladung-gelb.pdf.jpg
END:VEVENT
END:VCALENDAR
